BEGIN:VCALENDAR
VERSION:2.0
PRODID:-//ReaDx - ECPv6.15.20//NONSGML v1.0//EN
CALSCALE:GREGORIAN
METHOD:PUBLISH
X-WR-CALNAME:ReaDx
X-ORIGINAL-URL:https://readx.lk
X-WR-CALDESC:Events for ReaDx
REFRESH-INTERVAL;VALUE=DURATION:PT1H
X-Robots-Tag:noindex
X-PUBLISHED-TTL:PT1H
BEGIN:VTIMEZONE
TZID:Asia/Kolkata
BEGIN:STANDARD
TZOFFSETFROM:+0530
TZOFFSETTO:+0530
TZNAME:IST
DTSTART:20250101T000000
END:STANDARD
END:VTIMEZONE
BEGIN:VEVENT
DTSTART;TZID=Asia/Kolkata:20260329T050000
DTEND;TZID=Asia/Kolkata:20260329T180000
DTSTAMP:20260422T214744
CREATED:20260327T054613Z
LAST-MODIFIED:20260327T054613Z
UID:29661-1774760400-1774807200@readx.lk
SUMMARY:ඕං බලන් ඉස්තාන්බුල්
DESCRIPTION:
URL:https://readx.lk/event/%e0%b6%95%e0%b6%82-%e0%b6%b6%e0%b6%bd%e0%b6%b1%e0%b7%8a-%e0%b6%89%e0%b7%83%e0%b7%8a%e0%b6%ad%e0%b7%8f%e0%b6%b1%e0%b7%8a%e0%b6%b6%e0%b7%94%e0%b6%bd%e0%b7%8a/
LOCATION:Zoom\, Webinar ID: 969 2883 2810
ATTACH;FMTTYPE=image/jpeg:https://readx.lk/wp-content/uploads/2026/03/banner_si.jpg
ORGANIZER;CN="Tilakasiri Ekanayaka":MAILTO:preorders@readx.lk
END:VEVENT
END:VCALENDAR